BEGIN:VCALENDAR
VERSION:2.0
PRODID:SchoolNow
CALSCALE:GREGORIAN
BEGIN:VEVENT
UID:4a759c48-884a-11f0-9883-0a58a9feac02
DTSTAMP:20251217T020515Z
SUMMARY:Class Of 2027 Calendar Fundraiser
URL;VALUE=URI:https://www.sau14.org/emhs/calendar/8572637/class-of-2027-cal
 endar-fundraiser
DTSTART;VALUE=DATE:20250917
DTEND;VALUE=DATE:20250918
END:VEVENT
END:VCALENDAR
