BEGIN:VCALENDAR
VERSION:2.0
PRODID:SchoolNow
CALSCALE:GREGORIAN
BEGIN:VEVENT
UID:4a75a0c6-884a-11f0-ad97-0a58a9feac02
DTSTAMP:20251217T020515Z
SUMMARY:Class Of 2027 Calendar Fundraiser
URL;VALUE=URI:https://www.sau14.org/emhs/calendar/8572642/class-of-2027-cal
 endar-fundraiser
DTSTART;VALUE=DATE:20250922
DTEND;VALUE=DATE:20250923
END:VEVENT
END:VCALENDAR
