BEGIN:VCALENDAR
VERSION:2.0
PRODID:SchoolNow
CALSCALE:GREGORIAN
BEGIN:VEVENT
UID:3ff868c8-8916-11f0-b9b1-0a58a9feac02
DTSTAMP:20251217T020514Z
SUMMARY:Optional PSAT's for 10th / 11th Grade
URL;VALUE=URI:https://www.sau14.org/emhs/calendar/8576942/optional-psats-fo
 r-10th-11th-grade
DTSTART:20251021T114500Z
DTEND:20251021T143000Z
END:VEVENT
END:VCALENDAR
