BEGIN:VCALENDAR
VERSION:2.0
PRODID:SchoolNow
CALSCALE:GREGORIAN
BEGIN:VEVENT
UID:1016ca7e-8cdf-11f0-9fbb-0262d7234701
DTSTAMP:20251217T020514Z
SUMMARY:Tempo Meeting
URL;VALUE=URI:https://www.sau14.org/emhs/calendar/8596042/tempo-meeting
DTSTART:20260518T220000Z
DTEND:20260518T233000Z
END:VEVENT
END:VCALENDAR
