BEGIN:VCALENDAR
VERSION:2.0
PRODID:SchoolNow
CALSCALE:GREGORIAN
BEGIN:VEVENT
UID:1016cccc-8cdf-11f0-8e59-0262d7234701
DTSTAMP:20251217T020514Z
SUMMARY:Tempo Meeting
URL;VALUE=URI:https://www.sau14.org/emhs/calendar/8596044/tempo-meeting
DTSTART:20260209T230000Z
DTEND:20260210T003000Z
END:VEVENT
END:VCALENDAR
