BEGIN:VCALENDAR
VERSION:2.0
PRODID:SchoolNow
CALSCALE:GREGORIAN
BEGIN:VEVENT
UID:1016cdee-8cdf-11f0-92bc-0262d7234701
DTSTAMP:20251217T020514Z
SUMMARY:Tempo Meeting
URL;VALUE=URI:https://www.sau14.org/emhs/calendar/8596045/tempo-meeting
DTSTART:20251117T230000Z
DTEND:20251118T003000Z
END:VEVENT
END:VCALENDAR
