BEGIN:VCALENDAR
VERSION:2.0
PRODID:SchoolNow
CALSCALE:GREGORIAN
BEGIN:VEVENT
UID:1016d0dc-8cdf-11f0-a291-0262d7234701
DTSTAMP:20251217T020514Z
SUMMARY:MS Creative Writing Club
URL;VALUE=URI:https://www.sau14.org/emhs/calendar/8596048/ms-creative-writi
 ng-club
DTSTART:20251006T183000Z
DTEND:20251006T193000Z
END:VEVENT
END:VCALENDAR
