BEGIN:VCALENDAR
VERSION:2.0
PRODID:SchoolNow
CALSCALE:GREGORIAN
BEGIN:VEVENT
UID:1016d6ea-8cdf-11f0-9d55-0262d7234701
DTSTAMP:20251217T020514Z
SUMMARY:EMHS Youth 2 Youth
URL;VALUE=URI:https://www.sau14.org/emhs/calendar/8596055/emhs-youth-2-yout
 h
DTSTART:20251104T193000Z
DTEND:20251104T203000Z
END:VEVENT
END:VCALENDAR
