BEGIN:VCALENDAR
VERSION:2.0
PRODID:SchoolNow
CALSCALE:GREGORIAN
BEGIN:VEVENT
UID:1016dce4-8cdf-11f0-a9fd-0262d7234701
DTSTAMP:20251217T020514Z
SUMMARY:EMHS Youth 2 Youth
URL;VALUE=URI:https://www.sau14.org/emhs/calendar/8596062/emhs-youth-2-yout
 h
DTSTART:20260217T193000Z
DTEND:20260217T203000Z
END:VEVENT
END:VCALENDAR
