BEGIN:VCALENDAR
VERSION:2.0
PRODID:SchoolNow
CALSCALE:GREGORIAN
BEGIN:VEVENT
UID:1016ddc0-8cdf-11f0-9c1f-0262d7234701
DTSTAMP:20251217T020514Z
SUMMARY:EMHS Youth 2 Youth
URL;VALUE=URI:https://www.sau14.org/emhs/calendar/8596063/emhs-youth-2-yout
 h
DTSTART:20260303T193000Z
DTEND:20260303T203000Z
END:VEVENT
END:VCALENDAR
