BEGIN:VCALENDAR
VERSION:2.0
PRODID:SchoolNow
CALSCALE:GREGORIAN
BEGIN:VEVENT
UID:1016e20c-8cdf-11f0-b8a1-0262d7234701
DTSTAMP:20251217T020514Z
SUMMARY:EMHS Youth 2 Youth
URL;VALUE=URI:https://www.sau14.org/emhs/calendar/8596068/emhs-youth-2-yout
 h
DTSTART:20260505T183000Z
DTEND:20260505T193000Z
END:VEVENT
END:VCALENDAR
