BEGIN:VCALENDAR
VERSION:2.0
PRODID:SchoolNow
CALSCALE:GREGORIAN
BEGIN:VEVENT
UID:1016e2e8-8cdf-11f0-9904-0262d7234701
DTSTAMP:20251217T020514Z
SUMMARY:EMHS Youth 2 Youth
URL;VALUE=URI:https://www.sau14.org/emhs/calendar/8596069/emhs-youth-2-yout
 h
DTSTART:20260519T183000Z
DTEND:20260519T193000Z
END:VEVENT
END:VCALENDAR
