BEGIN:VCALENDAR
VERSION:2.0
PRODID:SchoolNow
CALSCALE:GREGORIAN
BEGIN:VEVENT
UID:1016e3c4-8cdf-11f0-89c5-0262d7234701
DTSTAMP:20251217T020514Z
SUMMARY:Challenge Course Adventures
LOCATION:Low Ropes Challenge Course
URL;VALUE=URI:https://www.sau14.org/emhs/calendar/8596070/challenge-course-
 adventures
DTSTART:20251105T193000Z
DTEND:20251105T203000Z
END:VEVENT
END:VCALENDAR
