BEGIN:VCALENDAR
VERSION:2.0
PRODID:SchoolNow
CALSCALE:GREGORIAN
BEGIN:VEVENT
UID:10418d0e-8cdf-11f0-b07c-0262d7234701
DTSTAMP:20251217T020516Z
SUMMARY:Challenge Course Adventures
LOCATION:Low Ropes Challenge Course
URL;VALUE=URI:https://www.sau14.org/emhs/calendar/8596071/challenge-course-
 adventures
DTSTART:20251001T183000Z
DTEND:20251001T193000Z
END:VEVENT
END:VCALENDAR
