BEGIN:VCALENDAR
VERSION:2.0
PRODID:SchoolNow
CALSCALE:GREGORIAN
BEGIN:VEVENT
UID:10419196-8cdf-11f0-80f8-0262d7234701
DTSTAMP:20251217T020516Z
SUMMARY:Challenge Course Adventures
LOCATION:Low Ropes Challenge Course
URL;VALUE=URI:https://www.sau14.org/emhs/calendar/8596073/challenge-course-
 adventures
DTSTART:20251015T183000Z
DTEND:20251015T193000Z
END:VEVENT
END:VCALENDAR
