BEGIN:VCALENDAR
VERSION:2.0
PRODID:SchoolNow
CALSCALE:GREGORIAN
BEGIN:VEVENT
UID:104192a4-8cdf-11f0-8a3d-0262d7234701
DTSTAMP:20251217T020516Z
SUMMARY:Challenge Course Adventures
LOCATION:Low Ropes Challenge Course
URL;VALUE=URI:https://www.sau14.org/emhs/calendar/8596074/challenge-course-
 adventures
DTSTART:20251022T183000Z
DTEND:20251022T193000Z
END:VEVENT
END:VCALENDAR
