BEGIN:VCALENDAR
VERSION:2.0
PRODID:SchoolNow
CALSCALE:GREGORIAN
BEGIN:VEVENT
UID:104193a8-8cdf-11f0-ac29-0262d7234701
DTSTAMP:20251217T020516Z
SUMMARY:Challenge Course Adventures
LOCATION:Low Ropes Challenge Course
URL;VALUE=URI:https://www.sau14.org/emhs/calendar/8596075/challenge-course-
 adventures
DTSTART:20251029T183000Z
DTEND:20251029T193000Z
END:VEVENT
END:VCALENDAR
