BEGIN:VCALENDAR
VERSION:2.0
PRODID:SchoolNow
CALSCALE:GREGORIAN
BEGIN:VEVENT
UID:efdf1156-8f42-11f0-b3c1-0affc55e3b29
DTSTAMP:20251217T020514Z
SUMMARY:Homecoming Weekend!   Volleyball v Raymond
URL;VALUE=URI:https://www.sau14.org/emhs/calendar/8610216/homecoming-weeken
 d-volleyball-v-raymond
DTSTART:20250919T221500Z
DTEND:20250919T234500Z
END:VEVENT
END:VCALENDAR
