BEGIN:VCALENDAR
VERSION:2.0
PRODID:SchoolNow
CALSCALE:GREGORIAN
BEGIN:VEVENT
UID:efdf34e2-8f42-11f0-a641-0affc55e3b29
DTSTAMP:20251217T020514Z
SUMMARY:EMHS Pep Band
URL;VALUE=URI:https://www.sau14.org/emhs/calendar/8610219/emhs-pep-band
DTSTART:20251001T183000Z
DTEND:20251001T200000Z
END:VEVENT
END:VCALENDAR
