BEGIN:VCALENDAR
VERSION:2.0
PRODID:SchoolNow
CALSCALE:GREGORIAN
BEGIN:VEVENT
UID:efdf35f0-8f42-11f0-87c1-0affc55e3b29
DTSTAMP:20251217T020514Z
SUMMARY:EMHS Pep Band
URL;VALUE=URI:https://www.sau14.org/emhs/calendar/8610220/emhs-pep-band
DTSTART:20251015T183000Z
DTEND:20251015T200000Z
END:VEVENT
END:VCALENDAR
