BEGIN:VCALENDAR
VERSION:2.0
PRODID:SchoolNow
CALSCALE:GREGORIAN
BEGIN:VEVENT
UID:efdf37da-8f42-11f0-9c23-0affc55e3b29
DTSTAMP:20251217T020514Z
SUMMARY:HS Student Government Meeting
URL;VALUE=URI:https://www.sau14.org/emhs/calendar/8610222/hs-student-govern
 ment-meeting
DTSTART:20250909T183000Z
DTEND:20250909T193000Z
END:VEVENT
END:VCALENDAR
