BEGIN:VCALENDAR
VERSION:2.0
PRODID:SchoolNow
CALSCALE:GREGORIAN
BEGIN:VEVENT
UID:efdf38ca-8f42-11f0-b8e5-0affc55e3b29
DTSTAMP:20251217T020514Z
SUMMARY:HS Student Government Meeting
URL;VALUE=URI:https://www.sau14.org/emhs/calendar/8610223/hs-student-govern
 ment-meeting
DTSTART:20251014T183000Z
DTEND:20251014T193000Z
END:VEVENT
END:VCALENDAR
