BEGIN:VCALENDAR
VERSION:2.0
PRODID:SchoolNow
CALSCALE:GREGORIAN
BEGIN:VEVENT
UID:efe96b2e-8f42-11f0-a641-0affc55e3b29
DTSTAMP:20251217T020514Z
SUMMARY:HS Student Government Meeting
URL;VALUE=URI:https://www.sau14.org/emhs/calendar/8610226/hs-student-govern
 ment-meeting
DTSTART:20251118T193000Z
DTEND:20251118T203000Z
END:VEVENT
END:VCALENDAR
