BEGIN:VCALENDAR
VERSION:2.0
PRODID:SchoolNow
CALSCALE:GREGORIAN
BEGIN:VEVENT
UID:efe96fca-8f42-11f0-b04c-0affc55e3b29
DTSTAMP:20251217T020514Z
SUMMARY:HS Student Government Meeting
URL;VALUE=URI:https://www.sau14.org/emhs/calendar/8610227/hs-student-govern
 ment-meeting
DTSTART:20251202T193000Z
DTEND:20251202T203000Z
END:VEVENT
END:VCALENDAR
