BEGIN:VCALENDAR
VERSION:2.0
PRODID:SchoolNow
CALSCALE:GREGORIAN
BEGIN:VEVENT
UID:efe97344-8f42-11f0-97cf-0affc55e3b29
DTSTAMP:20251217T020514Z
SUMMARY:HS Student Government Meeting
URL;VALUE=URI:https://www.sau14.org/emhs/calendar/8610229/hs-student-govern
 ment-meeting
DTSTART:20260106T193000Z
DTEND:20260106T203000Z
END:VEVENT
END:VCALENDAR
