BEGIN:VCALENDAR
VERSION:2.0
PRODID:SchoolNow
CALSCALE:GREGORIAN
BEGIN:VEVENT
UID:35b396a0-8fdb-11f0-891d-0a58a9feac02
DTSTAMP:20251217T020514Z
SUMMARY:( HS ) Jazz All- State Auditions
LOCATION:Lomdonderry NH
URL;VALUE=URI:https://www.sau14.org/emhs/calendar/8613501/hs-jazz-all-state
 -auditions
DTSTART;VALUE=DATE:20251018
DTEND;VALUE=DATE:20251019
END:VEVENT
END:VCALENDAR
