BEGIN:VCALENDAR
VERSION:2.0
PRODID:SchoolNow
CALSCALE:GREGORIAN
BEGIN:VEVENT
UID:35b39b1e-8fdb-11f0-b9d2-0a58a9feac02
DTSTAMP:20251217T020514Z
SUMMARY:( HS ) Classical All-State Auditions
LOCATION:Manchester\, NH
URL;VALUE=URI:https://www.sau14.org/emhs/calendar/8613502/hs-classical-all-
 state-auditions
DTSTART:20251122T133000Z
DTEND:20251122T163000Z
END:VEVENT
END:VCALENDAR
