BEGIN:VCALENDAR
VERSION:2.0
PRODID:SchoolNow
CALSCALE:GREGORIAN
BEGIN:VEVENT
UID:35b39ce0-8fdb-11f0-8483-0a58a9feac02
DTSTAMP:20251217T020514Z
SUMMARY:( MS ) NHBDA Mid- Level Auditions
LOCATION:Digital
URL;VALUE=URI:https://www.sau14.org/emhs/calendar/8613503/ms-nhbda-mid-leve
 l-auditions
DTSTART;VALUE=DATE:20251123
DTEND;VALUE=DATE:20251124
END:VEVENT
END:VCALENDAR
