BEGIN:VCALENDAR
VERSION:2.0
PRODID:SchoolNow
CALSCALE:GREGORIAN
BEGIN:VEVENT
UID:35b39e5c-8fdb-11f0-951e-0a58a9feac02
DTSTAMP:20251217T020514Z
SUMMARY:Memorial Day Parade
LOCATION:American Legion\, 232 Calef Hwy\, Epping\, NH 03042\, USA
URL;VALUE=URI:https://www.sau14.org/emhs/calendar/8613504/memorial-day-para
 de
DTSTART:20260525T130000Z
DTEND:20260525T160000Z
END:VEVENT
END:VCALENDAR
