BEGIN:VCALENDAR
VERSION:2.0
PRODID:SchoolNow
CALSCALE:GREGORIAN
BEGIN:VEVENT
UID:35b39fc4-8fdb-11f0-b781-0a58a9feac02
DTSTAMP:20251217T020514Z
SUMMARY:Elementary Band and Chorus
LOCATION:Allen Gym
URL;VALUE=URI:https://www.sau14.org/emhs/calendar/8613505/elementary-band-a
 nd-chorus
DTSTART:20260519T220000Z
DTEND:20260520T003000Z
END:VEVENT
END:VCALENDAR
