BEGIN:VCALENDAR
VERSION:2.0
PRODID:SchoolNow
CALSCALE:GREGORIAN
BEGIN:VEVENT
UID:35b3a12c-8fdb-11f0-ad52-0a58a9feac02
DTSTAMP:20251217T020514Z
SUMMARY:EMHS Spring Concert
LOCATION:Allen Gym
URL;VALUE=URI:https://www.sau14.org/emhs/calendar/8613506/emhs-spring-conce
 rt
DTSTART:20260512T220000Z
DTEND:20260512T233000Z
END:VEVENT
END:VCALENDAR
