BEGIN:VCALENDAR
VERSION:2.0
PRODID:SchoolNow
CALSCALE:GREGORIAN
BEGIN:VEVENT
UID:3380229e-900e-11f0-bbb6-0a58a9feac02
DTSTAMP:20251217T020514Z
SUMMARY:NHMEA Middle School District Festival
URL;VALUE=URI:https://www.sau14.org/emhs/calendar/8615158/nhmea-middle-scho
 ol-district-festival
DTSTART;VALUE=DATE:20260509
DTEND;VALUE=DATE:20260510
END:VEVENT
END:VCALENDAR
