BEGIN:VCALENDAR
VERSION:2.0
PRODID:SchoolNow
CALSCALE:GREGORIAN
BEGIN:VEVENT
UID:33802636-900e-11f0-a436-0a58a9feac02
DTSTAMP:20251217T020514Z
SUMMARY:Large Group High School Middle School  Festival
URL;VALUE=URI:https://www.sau14.org/emhs/calendar/8615159/large-group-high-
 school-middle-school-festival
DTSTART;VALUE=DATE:20260321
DTEND;VALUE=DATE:20260322
END:VEVENT
END:VCALENDAR
