BEGIN:VCALENDAR
VERSION:2.0
PRODID:SchoolNow
CALSCALE:GREGORIAN
BEGIN:VEVENT
UID:33802776-900e-11f0-a589-0a58a9feac02
DTSTAMP:20251217T020514Z
SUMMARY:UNH Clark Terry Jazz Festival
LOCATION:University of New Hampshire\, 105 Main St\, Durham\, NH 03824\, US
 A
URL;VALUE=URI:https://www.sau14.org/emhs/calendar/8615160/unh-clark-terry-j
 azz-festival
DTSTART;VALUE=DATE:20260314
DTEND;VALUE=DATE:20260315
END:VEVENT
END:VCALENDAR
