BEGIN:VCALENDAR
VERSION:2.0
PRODID:SchoolNow
CALSCALE:GREGORIAN
BEGIN:VEVENT
UID:3380288e-900e-11f0-b88f-0a58a9feac02
DTSTAMP:20251217T020514Z
SUMMARY:NHBDA Mid-Level Festival
LOCATION:Pinkerton Academy\, 5 Pinkerton St\, Derry\, NH 03038\, USA
URL;VALUE=URI:https://www.sau14.org/emhs/calendar/8615161/nhbda-mid-level-f
 estival
DTSTART;VALUE=DATE:20260309
DTEND;VALUE=DATE:20260310
END:VEVENT
END:VCALENDAR
