BEGIN:VCALENDAR
VERSION:2.0
PRODID:SchoolNow
CALSCALE:GREGORIAN
BEGIN:VEVENT
UID:33802992-900e-11f0-8584-0a58a9feac02
DTSTAMP:20251217T020514Z
SUMMARY:Solo and Ensemble
URL;VALUE=URI:https://www.sau14.org/emhs/calendar/8615162/solo-and-ensemble
DTSTART;VALUE=DATE:20260214
DTEND;VALUE=DATE:20260215
END:VEVENT
END:VCALENDAR
