BEGIN:VCALENDAR
VERSION:2.0
PRODID:SchoolNow
CALSCALE:GREGORIAN
BEGIN:VEVENT
UID:33802a82-900e-11f0-93fa-0a58a9feac02
DTSTAMP:20251217T020514Z
SUMMARY:Chamber Festival
LOCATION:Pinkerton Academy
URL;VALUE=URI:https://www.sau14.org/emhs/calendar/8615163/chamber-festival
DTSTART:20260110T123000Z
DTEND:20260111T000000Z
END:VEVENT
END:VCALENDAR
