BEGIN:VCALENDAR
VERSION:2.0
PRODID:SchoolNow
CALSCALE:GREGORIAN
BEGIN:VEVENT
UID:33802b72-900e-11f0-b120-0a58a9feac02
DTSTAMP:20251217T020514Z
SUMMARY:MIOSM Concert
LOCATION:O'Day Gym
URL;VALUE=URI:https://www.sau14.org/emhs/calendar/8615164/miosm-concert
DTSTART:20260312T220000Z
DTEND:20260313T000000Z
END:VEVENT
END:VCALENDAR
