BEGIN:VCALENDAR
VERSION:2.0
PRODID:SchoolNow
CALSCALE:GREGORIAN
BEGIN:VEVENT
UID:33802c6c-900e-11f0-a77b-0a58a9feac02
DTSTAMP:20251217T020514Z
SUMMARY:Homecoming Spirit Week- Twin Tuesday
URL;VALUE=URI:https://www.sau14.org/emhs/calendar/8615165/homecoming-spirit
 -week-twin-tuesday
DTSTART;VALUE=DATE:20250916
DTEND;VALUE=DATE:20250917
END:VEVENT
END:VCALENDAR
