BEGIN:VCALENDAR
VERSION:2.0
PRODID:SchoolNow
CALSCALE:GREGORIAN
BEGIN:VEVENT
UID:33802d5c-900e-11f0-84a3-0a58a9feac02
DTSTAMP:20251217T020514Z
SUMMARY:Homecoming Spirit Week - Walt Disney Wednesday
URL;VALUE=URI:https://www.sau14.org/emhs/calendar/8615166/homecoming-spirit
 -week-walt-disney-wednesday
DTSTART;VALUE=DATE:20250917
DTEND;VALUE=DATE:20250918
END:VEVENT
END:VCALENDAR
