BEGIN:VCALENDAR
VERSION:2.0
PRODID:SchoolNow
CALSCALE:GREGORIAN
BEGIN:VEVENT
UID:33802e42-900e-11f0-902e-0a58a9feac02
DTSTAMP:20251217T020514Z
SUMMARY:Homecoming Spirit Week - Throwback Thursday
URL;VALUE=URI:https://www.sau14.org/emhs/calendar/8615167/homecoming-spirit
 -week-throwback-thursday
DTSTART;VALUE=DATE:20250918
DTEND;VALUE=DATE:20250919
END:VEVENT
END:VCALENDAR
