BEGIN:VCALENDAR
VERSION:2.0
PRODID:SchoolNow
CALSCALE:GREGORIAN
BEGIN:VEVENT
UID:33802f1e-900e-11f0-b942-0a58a9feac02
DTSTAMP:20251217T020514Z
SUMMARY:Homecoming Spirit Week- Fan Friday
URL;VALUE=URI:https://www.sau14.org/emhs/calendar/8615168/homecoming-spirit
 -week-fan-friday
DTSTART;VALUE=DATE:20250919
DTEND;VALUE=DATE:20250920
END:VEVENT
END:VCALENDAR
