BEGIN:VCALENDAR
VERSION:2.0
PRODID:SchoolNow
CALSCALE:GREGORIAN
BEGIN:VEVENT
UID:33803004-900e-11f0-9751-0a58a9feac02
DTSTAMP:20251217T020514Z
SUMMARY:Homecoming Weekend! Bonfire
URL;VALUE=URI:https://www.sau14.org/emhs/calendar/8615169/homecoming-weeken
 d-bonfire
DTSTART:20250919T233000Z
DTEND:20250920T010000Z
END:VEVENT
END:VCALENDAR
