BEGIN:VCALENDAR
VERSION:2.0
PRODID:SchoolNow
CALSCALE:GREGORIAN
BEGIN:VEVENT
UID:338030ea-900e-11f0-948f-0a58a9feac02
DTSTAMP:20251217T020514Z
SUMMARY:Career Exploration Field Trip - Automotive College & Career Day
LOCATION:Manchester Community College\, 1066 Front St\, Manchester\, NH 031
 02\, USA
URL;VALUE=URI:https://www.sau14.org/emhs/calendar/8615170/career-exploratio
 n-field-trip-automotive-college-career-day
DTSTART:20251002T133000Z
DTEND:20251002T180000Z
END:VEVENT
END:VCALENDAR
