BEGIN:VCALENDAR
VERSION:2.0
PRODID:SchoolNow
CALSCALE:GREGORIAN
BEGIN:VEVENT
UID:3395027c-900e-11f0-abbc-0a58a9feac02
DTSTAMP:20251217T020515Z
SUMMARY:Classical All- State Festival HS Auditions
LOCATION:Concord NH
URL;VALUE=URI:https://www.sau14.org/emhs/calendar/8615171/classical-all-sta
 te-festival-hs-auditions
DTSTART;VALUE=DATE:20260416
DTEND;VALUE=DATE:20260417
END:VEVENT
END:VCALENDAR
