BEGIN:VCALENDAR
VERSION:2.0
PRODID:SchoolNow
CALSCALE:GREGORIAN
BEGIN:VEVENT
UID:339509fc-900e-11f0-9160-0a58a9feac02
DTSTAMP:20251217T020515Z
SUMMARY:Jazz All-State Festival HS Auditioned
LOCATION:Pinkerton Academy\, 5 Pinkerton St\, Derry\, NH 03038\, USA
URL;VALUE=URI:https://www.sau14.org/emhs/calendar/8615176/jazz-all-state-fe
 stival-hs-auditioned
DTSTART;VALUE=DATE:20260207
DTEND;VALUE=DATE:20260208
END:VEVENT
END:VCALENDAR
