BEGIN:VCALENDAR
VERSION:2.0
PRODID:SchoolNow
CALSCALE:GREGORIAN
BEGIN:VEVENT
UID:33950d80-900e-11f0-adc5-0a58a9feac02
DTSTAMP:20251217T020515Z
SUMMARY:Tempo Pie Sale
URL;VALUE=URI:https://www.sau14.org/emhs/calendar/8615179/tempo-pie-sale
DTSTART;VALUE=DATE:20250921
DTEND;VALUE=DATE:20250922
END:VEVENT
END:VCALENDAR
