BEGIN:VCALENDAR
VERSION:2.0
PRODID:SchoolNow
CALSCALE:GREGORIAN
BEGIN:VEVENT
UID:33951032-900e-11f0-a1cc-0a58a9feac02
DTSTAMP:20251217T020516Z
SUMMARY:Tempo Pie Sale
URL;VALUE=URI:https://www.sau14.org/emhs/calendar/8615182/tempo-pie-sale
DTSTART;VALUE=DATE:20250924
DTEND;VALUE=DATE:20250925
END:VEVENT
END:VCALENDAR
