BEGIN:VCALENDAR
VERSION:2.0
PRODID:SchoolNow
CALSCALE:GREGORIAN
BEGIN:VEVENT
UID:339512da-900e-11f0-b228-0a58a9feac02
DTSTAMP:20251217T020516Z
SUMMARY:Tempo Pie Sale
URL;VALUE=URI:https://www.sau14.org/emhs/calendar/8615185/tempo-pie-sale
DTSTART;VALUE=DATE:20250927
DTEND;VALUE=DATE:20250928
END:VEVENT
END:VCALENDAR
