BEGIN:VCALENDAR
VERSION:2.0
PRODID:SchoolNow
CALSCALE:GREGORIAN
BEGIN:VEVENT
UID:339514b0-900e-11f0-88c0-0a58a9feac02
DTSTAMP:20251217T020516Z
SUMMARY:Tempo Pie Sale
URL;VALUE=URI:https://www.sau14.org/emhs/calendar/8615187/tempo-pie-sale
DTSTART;VALUE=DATE:20250929
DTEND;VALUE=DATE:20250930
END:VEVENT
END:VCALENDAR
